BEGIN:VCALENDAR
VERSION:2.0
PRODID:-//Live Music Nelson - ECPv6.15.18//NONSGML v1.0//EN
CALSCALE:GREGORIAN
METHOD:PUBLISH
X-ORIGINAL-URL:https://livemusicnelson.ca
X-WR-CALDESC:Events for Live Music Nelson
REFRESH-INTERVAL;VALUE=DURATION:PT1H
X-Robots-Tag:noindex
X-PUBLISHED-TTL:PT1H
BEGIN:VTIMEZONE
TZID:America/Vancouver
BEGIN:DAYLIGHT
TZOFFSETFROM:-0800
TZOFFSETTO:-0700
TZNAME:PDT
DTSTART:20250309T100000
END:DAYLIGHT
BEGIN:STANDARD
TZOFFSETFROM:-0700
TZOFFSETTO:-0800
TZNAME:PST
DTSTART:20251102T090000
END:STANDARD
BEGIN:DAYLIGHT
TZOFFSETFROM:-0800
TZOFFSETTO:-0700
TZNAME:PDT
DTSTART:20260308T100000
END:DAYLIGHT
BEGIN:STANDARD
TZOFFSETFROM:-0700
TZOFFSETTO:-0800
TZNAME:PST
DTSTART:20261101T090000
END:STANDARD
BEGIN:DAYLIGHT
TZOFFSETFROM:-0800
TZOFFSETTO:-0700
TZNAME:PDT
DTSTART:20270314T100000
END:DAYLIGHT
BEGIN:STANDARD
TZOFFSETFROM:-0700
TZOFFSETTO:-0800
TZNAME:PST
DTSTART:20271107T090000
END:STANDARD
END:VTIMEZONE
BEGIN:VEVENT
DTSTART;TZID=America/Vancouver:20260404T220000
DTEND;TZID=America/Vancouver:20260404T235900
DTSTAMP:20260422T111410
CREATED:20260126T004429Z
LAST-MODIFIED:20260126T004429Z
UID:10016529-1775340000-1775347140@livemusicnelson.ca
SUMMARY:Maddy O'Neal Live At Bloom Nightclub
DESCRIPTION:Bloom Nightclub Presents \nMADDY O’NEAL \nwww.maddyoneal.com \n  \nWith Special Guests \nWes Please \nEl Toro \n  \n10PM-2AM \n19+
URL:https://livemusicnelson.ca/event/maddy-oneal-live-at-bloom-nightclub/
LOCATION:Bloom Nightclub\, 198 Baker St\, Nelson\, BC\, V1L 4H4\, Canada
CATEGORIES:Dance,Electronic
ATTACH;FMTTYPE=image/webp:https://livemusicnelson.ca/wp-content/uploads/2026/01/905d5217-68a.webp
END:VEVENT
END:VCALENDAR