BEGIN:VCALENDAR
VERSION:2.0
PRODID:-//Live Music Nelson - ECPv6.15.18//NONSGML v1.0//EN
CALSCALE:GREGORIAN
METHOD:PUBLISH
X-WR-CALNAME:Live Music Nelson
X-ORIGINAL-URL:https://livemusicnelson.ca
X-WR-CALDESC:Events for Live Music Nelson
REFRESH-INTERVAL;VALUE=DURATION:PT1H
X-Robots-Tag:noindex
X-PUBLISHED-TTL:PT1H
BEGIN:VTIMEZONE
TZID:America/Vancouver
BEGIN:DAYLIGHT
TZOFFSETFROM:-0800
TZOFFSETTO:-0700
TZNAME:PDT
DTSTART:20250309T100000
END:DAYLIGHT
BEGIN:STANDARD
TZOFFSETFROM:-0700
TZOFFSETTO:-0800
TZNAME:PST
DTSTART:20251102T090000
END:STANDARD
BEGIN:DAYLIGHT
TZOFFSETFROM:-0800
TZOFFSETTO:-0700
TZNAME:PDT
DTSTART:20260308T100000
END:DAYLIGHT
BEGIN:STANDARD
TZOFFSETFROM:-0700
TZOFFSETTO:-0800
TZNAME:PST
DTSTART:20261101T090000
END:STANDARD
BEGIN:DAYLIGHT
TZOFFSETFROM:-0800
TZOFFSETTO:-0700
TZNAME:PDT
DTSTART:20270314T100000
END:DAYLIGHT
BEGIN:STANDARD
TZOFFSETFROM:-0700
TZOFFSETTO:-0800
TZNAME:PST
DTSTART:20271107T090000
END:STANDARD
END:VTIMEZONE
BEGIN:VEVENT
DTSTART;TZID=America/Vancouver:20260424T180000
DTEND;TZID=America/Vancouver:20260424T210000
DTSTAMP:20260424T015720
CREATED:20260420T004325Z
LAST-MODIFIED:20260420T004357Z
UID:10016745-1777053600-1777064400@livemusicnelson.ca
SUMMARY:Lil Bones at Red Light
DESCRIPTION:Spring is settling into Nelson\, and Red Light is leaning into the shift with a fresh month of art\, music\, and evenings worth lingering over. Join us every weekend from 6–9PM for a rotating lineup of DJs\, special events\, and a new exhibition to take in between bowls and conversation. \nWe’re kicking things off with an opening from Lindsay Dew\, setting the tone for a month that blends visual art with curated sound. Mid-month\, we are hosting another Pour Decisions Wine Night – an evening pairing our best wine selections in flights with easy listening by Emerencz. Each weekend brings something a little different\, so we hope you come down to check it out. \nApril Lineup:\nA.3 – Lindsay Dew Art Exhibition (music by salix) \nA.10 – BOFF \nA.17 – Pour Decisions Wine Night (music by Emerencz) \nA.24 – lil bones \nReservations are recommended. Come by\, settle in\, and spend an evening with us.
URL:https://livemusicnelson.ca/event/lil-bones-at-red-light/
LOCATION:Red Light Ramen\, 308 Herridge Ln\, Nelson\, British Columbia\, V1L 6G5\, Canada
CATEGORIES:Dining,Mixed Genres
ATTACH;FMTTYPE=image/jpeg:https://livemusicnelson.ca/wp-content/uploads/2026/04/redlight-1.jpg
END:VEVENT
BEGIN:VEVENT
DTSTART;TZID=America/Vancouver:20260424T190000
DTEND;TZID=America/Vancouver:20260424T230000
DTSTAMP:20260424T015720
CREATED:20260412T214001Z
LAST-MODIFIED:20260412T214001Z
UID:10016732-1777057200-1777071600@livemusicnelson.ca
SUMMARY:ALL TOGETHER NOW: A Community Singing Event with Luke Wallace
DESCRIPTION:Join songwriter Luke Wallace and a collection of Nelson Singers for a night of uplifting harmony rooted in justice and ecology. \nLuke Wallace is a dynamic force in the world of folk music\, using his talent as a songwriter\, speaker\, and choral arranger to champion environmental causes and inspire positive change. Hailing from the Coast Salish Territory known as Vancouver\, Canada\, Luke has been on a decade-long journey of touring\, recording\, and organizing for the betterment of people and the planet. \nPresented by West Kootenay Climate Hub and Earth Days Nelson & Area\, ALL TOGETHER NOW is a mix between a song circle and performance. Part concert and part audience harmony workshop\, this evening of collective music brings voices together in soidarity and love for the Earth. \nLuke is like a modern Pete Seeger. From the moment he hits the stage\, he has the audience singing about positive change. We desperately need that and we need him on stages all across our Country right now! He doesn’t back down but he doesn’t alienate people either. He’s a perfect voice for right now.” – Doug Cox
URL:https://livemusicnelson.ca/event/all-together-now-a-community-singing-event-with-luke-wallace/
LOCATION:Nelson United Church\, 602 Silica Street\, Nelson\, BC\, V1L 4N1\, Canada
CATEGORIES:Singer/Songwriter
ATTACH;FMTTYPE=image/jpeg:https://livemusicnelson.ca/wp-content/uploads/2026/04/Luke-Wallace-Poster.jpg
END:VEVENT
BEGIN:VEVENT
DTSTART;TZID=America/Vancouver:20260424T190000
DTEND;TZID=America/Vancouver:20260424T235900
DTSTAMP:20260424T015720
CREATED:20260412T214053Z
LAST-MODIFIED:20260412T214053Z
UID:10016733-1777057200-1777075140@livemusicnelson.ca
SUMMARY:A Very Grateful Evening – Co-op Radio Fundraiser
DESCRIPTION:Experience the multi-faceted vibes of the Dead’s folk\, country\, blues\, jam rock\, psychedelia\, and more! Local bands are performing to support the spirit of the Grateful Dead and Kootenay Co-op Radio (KCR). Proceeds support homegrown radio\, so come shake your bones and support KCR’s mission to let great songs fill the air!
URL:https://livemusicnelson.ca/event/a-very-grateful-evening-co-op-radio-fundraiser/
LOCATION:Kootenay Co-op Radio\, 308 A Hall Street\, Nelson\, BC\, V1L 1Y8\, Canada
CATEGORIES:Country,Folk
ATTACH;FMTTYPE=image/png:https://livemusicnelson.ca/wp-content/uploads/2026/04/KCR-GD-Night-Royal-768x720-1.png
END:VEVENT
BEGIN:VEVENT
DTSTART;TZID=America/Vancouver:20260424T193000
DTEND;TZID=America/Vancouver:20260424T230000
DTSTAMP:20260424T015720
CREATED:20260420T002550Z
LAST-MODIFIED:20260420T214017Z
UID:10016738-1777059000-1777071600@livemusicnelson.ca
SUMMARY:White Lightning
DESCRIPTION:Kick off your weekend on the dance floor at Finley’s with White Lightning: Blues\, Rock and Boogie Band \ncover by donation: Suggested $10
URL:https://livemusicnelson.ca/event/white-lightning/
LOCATION:Finley’s\, 705 Vernon St\, Nelson\, BC\, V1L 4G3\, Canada
CATEGORIES:Blues,Featured,Rock
ATTACH;FMTTYPE=image/jpeg:https://livemusicnelson.ca/wp-content/uploads/2026/04/IMG_4571.jpeg
END:VEVENT
END:VCALENDAR