BEGIN:VCALENDAR
VERSION:2.0
PRODID:-//Live Music Nelson - ECPv6.15.18//NONSGML v1.0//EN
CALSCALE:GREGORIAN
METHOD:PUBLISH
X-WR-CALNAME:Live Music Nelson
X-ORIGINAL-URL:http://livemusicnelson.ca
X-WR-CALDESC:Events for Live Music Nelson
REFRESH-INTERVAL;VALUE=DURATION:PT1H
X-Robots-Tag:noindex
X-PUBLISHED-TTL:PT1H
BEGIN:VTIMEZONE
TZID:America/Vancouver
BEGIN:DAYLIGHT
TZOFFSETFROM:-0800
TZOFFSETTO:-0700
TZNAME:PDT
DTSTART:20250309T100000
END:DAYLIGHT
BEGIN:STANDARD
TZOFFSETFROM:-0700
TZOFFSETTO:-0800
TZNAME:PST
DTSTART:20251102T090000
END:STANDARD
BEGIN:DAYLIGHT
TZOFFSETFROM:-0800
TZOFFSETTO:-0700
TZNAME:PDT
DTSTART:20260308T100000
END:DAYLIGHT
BEGIN:STANDARD
TZOFFSETFROM:-0700
TZOFFSETTO:-0800
TZNAME:PST
DTSTART:20261101T090000
END:STANDARD
BEGIN:DAYLIGHT
TZOFFSETFROM:-0800
TZOFFSETTO:-0700
TZNAME:PDT
DTSTART:20270314T100000
END:DAYLIGHT
BEGIN:STANDARD
TZOFFSETFROM:-0700
TZOFFSETTO:-0800
TZNAME:PST
DTSTART:20271107T090000
END:STANDARD
END:VTIMEZONE
BEGIN:VEVENT
DTSTART;TZID=America/Vancouver:20260420T190000
DTEND;TZID=America/Vancouver:20260420T230000
DTSTAMP:20260420T013757
CREATED:20260406T002717Z
LAST-MODIFIED:20260406T002742Z
UID:10016716-1776711600-1776726000@livemusicnelson.ca
SUMMARY:CANCER BATS\, ANCIIENTS\, TEETH\, CHASTITY
DESCRIPTION:MODO-LIVE\, New Ground Booking & Noise Cult Productions presents… https://www.ticketweb.ca/event/cancer-bats-with-anciients-teeth-the-royal-tickets/14080514?pl=MODO-LIVE
URL:http://livemusicnelson.ca/event/cancer-bats-anciients-teeth-chastity/
LOCATION:The Royal\, 330 Baker Street\, Nelson\, BC\, V1L 4H5\, Canada
CATEGORIES:Punk Rock
ATTACH;FMTTYPE=image/avif:http://livemusicnelson.ca/wp-content/uploads/2026/04/eb01e0_30941c7ebe174909afd41e537320e8fcmv2-1.avif
END:VEVENT
END:VCALENDAR